BEGIN:VCALENDAR
VERSION:2.0
PRODID:icalendar-ruby
CALSCALE:GREGORIAN
METHOD:PUBLISH
BEGIN:VEVENT
DTSTAMP:20260423T145152Z
UID:5-1631767@abundantlifechurchsamson.com
DTSTART:20261018T160000Z
DTEND:20261018T170000Z
CLASS:PUBLIC
CREATED:20260423T073511
DESCRIPTION:Sunday Worship
LAST-MODIFIED:20260423T073511
LOCATION:
SUMMARY:Sunday Worship
URL;VALUE=URI:https://abundantlifechurchsamson.com/events/sunday-worship/20
 26-10-18
END:VEVENT
END:VCALENDAR
