BEGIN:VCALENDAR
VERSION:2.0
PRODID:icalendar-ruby
CALSCALE:GREGORIAN
METHOD:PUBLISH
BEGIN:VEVENT
DTSTAMP:20260423T082330Z
UID:5-1631126@abundantlifechurchsamson.com
DTSTART:20260920T160000Z
DTEND:20260920T170000Z
CLASS:PUBLIC
CREATED:20260422T220455
DESCRIPTION:Sunday Worship
LAST-MODIFIED:20260422T220455
LOCATION:
SUMMARY:Sunday Worship
URL;VALUE=URI:https://abundantlifechurchsamson.com/events/sunday-worship/20
 26-09-20
END:VEVENT
END:VCALENDAR
