BEGIN:VCALENDAR
VERSION:2.0
PRODID:icalendar-ruby
CALSCALE:GREGORIAN
METHOD:PUBLISH
BEGIN:VEVENT
DTSTAMP:20260422T221639Z
UID:10-1630112@abundantlifechurchsamson.com
DTSTART:20260920T150000Z
DTEND:20260920T170000Z
CLASS:PUBLIC
CREATED:20260422T161905
DESCRIPTION:
LAST-MODIFIED:20260422T161905
LOCATION:Abundant Life Church
SUMMARY:Sunday Morning Service
URL;VALUE=URI:https://abundantlifechurchsamson.com/events/sunday-morning-se
 rvice/2026-09-20
ATTACH;FILENAME=alc-worship-pic.jpg;FMTTYPE=image/jpeg:https://dq5pwpg1q8ru
 0.cloudfront.net/2025/08/19/00/22/15/a088f2c3-9dad-4c44-b662-bbdcca47d2f7/
 alc-worship-pic.jpg
ATTACH;FILENAME=alc-worship.jpg;FMTTYPE=image/jpeg:https://dq5pwpg1q8ru0.cl
 oudfront.net/2025/08/19/00/22/15/8204ac7f-1a3c-407d-82e8-b330b0387aa3/alc-
 worship.jpg
ATTACH;FILENAME=alter-time.jpg;FMTTYPE=image/jpeg:https://dq5pwpg1q8ru0.clo
 udfront.net/2025/08/19/00/22/16/57d65459-b6f6-4710-b928-6bb6bd264598/alter
 -time.jpg
ATTACH;FILENAME=worship-alter.jpg;FMTTYPE=image/jpeg:https://dq5pwpg1q8ru0.
 cloudfront.net/2025/08/19/00/22/16/981b55e7-0c54-41f3-9b11-56102758f6b7/wo
 rship-alter.jpg
ATTACH;FILENAME=worship.jpg;FMTTYPE=image/jpeg:https://dq5pwpg1q8ru0.cloudf
 ront.net/2025/08/19/00/22/16/2d8391a3-8b46-4d23-8530-a0517092f272/worship.
 jpg
END:VEVENT
END:VCALENDAR
