BEGIN:VCALENDAR
VERSION:2.0
PRODID:icalendar-ruby
CALSCALE:GREGORIAN
METHOD:PUBLISH
BEGIN:VEVENT
DTSTAMP:20260422T225119Z
UID:8-1629947@abundantlifechurchsamson.com
DTSTART:20261028T230000Z
DTEND:20261029T010000Z
CLASS:PUBLIC
CREATED:20260422T161904
DESCRIPTION:
LAST-MODIFIED:20260422T161904
LOCATION:Abundant Life Church 
SUMMARY:Powerhouse Youth
URL;VALUE=URI:https://abundantlifechurchsamson.com/events/powerhouse-youth-
 -8/2026-10-28
ATTACH;FILENAME=IMG_4897.jpeg;FMTTYPE=image/jpeg:https://dq5pwpg1q8ru0.clou
 dfront.net/2025/03/15/16/57/47/5bccec66-36f8-460b-a293-a3aed88b815b/IMG_48
 97.jpeg
ATTACH;FILENAME=IMG_0002.jpeg;FMTTYPE=image/jpeg:https://dq5pwpg1q8ru0.clou
 dfront.net/2025/03/15/14/43/22/59845d12-193c-4ba9-9055-f05262d692bc/IMG_00
 02.jpeg
ATTACH;FILENAME=IMG_0003.jpeg;FMTTYPE=image/jpeg:https://dq5pwpg1q8ru0.clou
 dfront.net/2025/08/23/21/29/39/b98a3ecb-6926-44a4-bbee-1d68cc60b6a2/IMG_00
 03.jpeg
ATTACH;FILENAME=youth-river.jpg;FMTTYPE=image/jpeg:https://dq5pwpg1q8ru0.cl
 oudfront.net/2025/08/23/21/33/21/768a6188-73cd-4de0-92cd-783939636baa/yout
 h-river.jpg
END:VEVENT
END:VCALENDAR
