BEGIN:VCALENDAR
VERSION:2.0
PRODID:icalendar-ruby
CALSCALE:GREGORIAN
METHOD:PUBLISH
BEGIN:VEVENT
DTSTAMP:20260423T044231Z
UID:9-1631302@abundantlifechurchsamson.com
DTSTART:20261021T230000Z
DTEND:20261022T010000Z
CLASS:PUBLIC
CREATED:20260422T220455
DESCRIPTION:
LAST-MODIFIED:20260422T220455
LOCATION:Abundant Life Church 
SUMMARY:Mid week service 
URL;VALUE=URI:https://abundantlifechurchsamson.com/events/mid-week-service/
 2026-10-21
ATTACH;FILENAME=alc-worship.jpg;FMTTYPE=image/jpeg:https://dq5pwpg1q8ru0.cl
 oudfront.net/2025/08/23/21/25/36/8c0c789f-ea24-4fb0-95cc-e059b89b77e8/alc-
 worship.jpg
END:VEVENT
END:VCALENDAR
