BEGIN:VCALENDAR
VERSION:2.0
PRODID:icalendar-ruby
CALSCALE:GREGORIAN
METHOD:PUBLISH
BEGIN:VEVENT
DTSTAMP:20260423T013704Z
UID:9-1630664@abundantlifechurchsamson.com
DTSTART:20261007T230000Z
DTEND:20261008T010000Z
CLASS:PUBLIC
CREATED:20260422T191040
DESCRIPTION:
LAST-MODIFIED:20260422T191040
LOCATION:Abundant Life Church 
SUMMARY:Mid week service 
URL;VALUE=URI:https://abundantlifechurchsamson.com/events/mid-week-service/
 2026-10-07
ATTACH;FILENAME=alc-worship.jpg;FMTTYPE=image/jpeg:https://dq5pwpg1q8ru0.cl
 oudfront.net/2025/08/23/21/25/36/8c0c789f-ea24-4fb0-95cc-e059b89b77e8/alc-
 worship.jpg
END:VEVENT
END:VCALENDAR
